BEGIN:VCALENDAR
VERSION:2.0
PRODID:-//AIA Tennessee - ECPv6.15.20//NONSGML v1.0//EN
CALSCALE:GREGORIAN
METHOD:PUBLISH
X-WR-CALNAME:AIA Tennessee
X-ORIGINAL-URL:https://aiatn.org
X-WR-CALDESC:Events for AIA Tennessee
REFRESH-INTERVAL;VALUE=DURATION:PT1H
X-Robots-Tag:noindex
X-PUBLISHED-TTL:PT1H
BEGIN:VTIMEZONE
TZID:America/Chicago
BEGIN:DAYLIGHT
TZOFFSETFROM:-0600
TZOFFSETTO:-0500
TZNAME:CDT
DTSTART:20200308T080000
END:DAYLIGHT
BEGIN:STANDARD
TZOFFSETFROM:-0500
TZOFFSETTO:-0600
TZNAME:CST
DTSTART:20201101T070000
END:STANDARD
BEGIN:DAYLIGHT
TZOFFSETFROM:-0600
TZOFFSETTO:-0500
TZNAME:CDT
DTSTART:20210314T080000
END:DAYLIGHT
BEGIN:STANDARD
TZOFFSETFROM:-0500
TZOFFSETTO:-0600
TZNAME:CST
DTSTART:20211107T070000
END:STANDARD
BEGIN:DAYLIGHT
TZOFFSETFROM:-0600
TZOFFSETTO:-0500
TZNAME:CDT
DTSTART:20220313T080000
END:DAYLIGHT
BEGIN:STANDARD
TZOFFSETFROM:-0500
TZOFFSETTO:-0600
TZNAME:CST
DTSTART:20221106T070000
END:STANDARD
END:VTIMEZONE
BEGIN:VEVENT
DTSTART;TZID=America/Chicago:20210506T130000
DTEND;TZID=America/Chicago:20210506T150000
DTSTAMP:20260424T205114
CREATED:20210406T231837Z
LAST-MODIFIED:20210506T073729Z
UID:4188-1620306000-1620313200@aiatn.org
SUMMARY:AIA TN Board of Directors Meeting
DESCRIPTION:Contact AIA TN office for more information.
URL:https://aiatn.org/event/aia-tn-board-of-directors-meeting/
LOCATION:Virtual Session
END:VEVENT
BEGIN:VEVENT
DTSTART;TZID=America/Chicago:20210512T090000
DTEND;TZID=America/Chicago:20210512T120000
DTSTAMP:20260424T205114
CREATED:20210412T234940Z
LAST-MODIFIED:20210512T083728Z
UID:4234-1620810000-1620820800@aiatn.org
SUMMARY:Quality in Construction Task Force Meeting
DESCRIPTION:The QIC Task Force is led by the Office of the State Architect. To learn more\, visit https://www.tn.gov/osa/capital—real-estate/capital-projects/quality-in-construction–qic-.html  
URL:https://aiatn.org/event/quality-in-construction-task-force-meeting-2/
END:VEVENT
BEGIN:VEVENT
DTSTART;TZID=America/Chicago:20210512T090000
DTEND;TZID=America/Chicago:20210512T120000
DTSTAMP:20260424T205114
CREATED:20210412T234940Z
LAST-MODIFIED:20210412T234940Z
UID:4233-1620810000-1620820800@aiatn.org
SUMMARY:Quality in Construction Task Force Meeting
DESCRIPTION:The QIC Task Force is led by the Office of the State Architect. To learn more\, visit https://www.tn.gov/osa/capital—real-estate/capital-projects/quality-in-construction–qic-.html  
URL:https://aiatn.org/event/quality-in-construction-task-force-meeting/
END:VEVENT
BEGIN:VEVENT
DTSTART;TZID=America/Chicago:20210520T110000
DTEND;TZID=America/Chicago:20210520T133000
DTSTAMP:20260424T205114
CREATED:20210420T055128Z
LAST-MODIFIED:20210520T085124Z
UID:4274-1621508400-1621517400@aiatn.org
SUMMARY:Third Thursday (AIA Memphis)
DESCRIPTION:For more information: https://www.aiamemphis.org/calendar
URL:https://aiatn.org/event/third-thursday-aia-memphis-3/
LOCATION:University Club of Memphis\, 1346 Central Ave\, Memphis\, TN 38104\, USA
END:VEVENT
BEGIN:VEVENT
DTSTART;TZID=America/Chicago:20210525T143000
DTEND;TZID=America/Chicago:20210525T153000
DTSTAMP:20260424T205114
CREATED:20210507T073729Z
LAST-MODIFIED:20210525T093729Z
UID:4409-1621953000-1621956600@aiatn.org
SUMMARY:AIA TN Justice Equity + Diversity Inclusion Committee Meeting
DESCRIPTION:Please contact the AIA TN office for more information about this committee.
URL:https://aiatn.org/event/aia-tn-justice-equity-diversity-inclusion-committee-meeting-4/
END:VEVENT
BEGIN:VEVENT
DTSTART;TZID=America/Chicago:20210527T110000
DTEND;TZID=America/Chicago:20210527T120000
DTSTAMP:20260424T205114
CREATED:20210427T065132Z
LAST-MODIFIED:20210506T073730Z
UID:4290-1622113200-1622116800@aiatn.org
SUMMARY:AIA TN Justice Equity Diversity & Inclusion Committee Meeting
DESCRIPTION:Please contact the AIA TN office for more information about this committee.
URL:https://aiatn.org/event/aia-tn-justice-equity-diversity-inclusion-committee-meeting-3/
END:VEVENT
END:VCALENDAR