BEGIN:VCALENDAR
VERSION:2.0
PRODID:-//AIA Tennessee - ECPv6.15.20//NONSGML v1.0//EN
CALSCALE:GREGORIAN
METHOD:PUBLISH
X-ORIGINAL-URL:https://aiatn.org
X-WR-CALDESC:Events for AIA Tennessee
REFRESH-INTERVAL;VALUE=DURATION:PT1H
X-Robots-Tag:noindex
X-PUBLISHED-TTL:PT1H
BEGIN:VTIMEZONE
TZID:America/Chicago
BEGIN:DAYLIGHT
TZOFFSETFROM:-0600
TZOFFSETTO:-0500
TZNAME:CDT
DTSTART:20200308T080000
END:DAYLIGHT
BEGIN:STANDARD
TZOFFSETFROM:-0500
TZOFFSETTO:-0600
TZNAME:CST
DTSTART:20201101T070000
END:STANDARD
BEGIN:DAYLIGHT
TZOFFSETFROM:-0600
TZOFFSETTO:-0500
TZNAME:CDT
DTSTART:20210314T080000
END:DAYLIGHT
BEGIN:STANDARD
TZOFFSETFROM:-0500
TZOFFSETTO:-0600
TZNAME:CST
DTSTART:20211107T070000
END:STANDARD
BEGIN:DAYLIGHT
TZOFFSETFROM:-0600
TZOFFSETTO:-0500
TZNAME:CDT
DTSTART:20220313T080000
END:DAYLIGHT
BEGIN:STANDARD
TZOFFSETFROM:-0500
TZOFFSETTO:-0600
TZNAME:CST
DTSTART:20221106T070000
END:STANDARD
END:VTIMEZONE
BEGIN:VEVENT
DTSTART;TZID=America/Chicago:20210603T080000
DTEND;TZID=America/Chicago:20210603T120000
DTSTAMP:20260424T190855
CREATED:20210504T073726Z
LAST-MODIFIED:20210603T155117Z
UID:4357-1622707200-1622721600@aiatn.org
SUMMARY:Tennessee Board of Architectural and Engineering Examiners
DESCRIPTION:For more information on meeting agenda and materials\, visit https://www.tn.gov/commerce/regboards/architects-engineers/public-meeting-information.html 
URL:https://aiatn.org/event/tennessee-board-of-architectural-and-engineering-examiners-2/
END:VEVENT
BEGIN:VEVENT
DTSTART;TZID=America/Chicago:20210603T133000
DTEND;TZID=America/Chicago:20210603T170000
DTSTAMP:20260424T190855
CREATED:20210504T073726Z
LAST-MODIFIED:20210506T073730Z
UID:4358-1622727000-1622739600@aiatn.org
SUMMARY:Disaster SAP Training (Day One)
DESCRIPTION:More Information Coming Soon!
URL:https://aiatn.org/event/disaster-sap-training-day-one/
END:VEVENT
BEGIN:VEVENT
DTSTART;TZID=America/Chicago:20210604T090000
DTEND;TZID=America/Chicago:20210604T120000
DTSTAMP:20260424T190855
CREATED:20210505T073732Z
LAST-MODIFIED:20210506T073730Z
UID:4362-1622797200-1622808000@aiatn.org
SUMMARY:Disaster SAP Training - Day 2
DESCRIPTION:More Information Coming soon!
URL:https://aiatn.org/event/disaster-sap-training-day-2/
END:VEVENT
BEGIN:VEVENT
DTSTART;VALUE=DATE:20210610
DTEND;VALUE=DATE:20210611
DTSTAMP:20260424T190855
CREATED:20210511T083732Z
LAST-MODIFIED:20210610T233737Z
UID:4423-1623283200-1623369599@aiatn.org
SUMMARY:AIA National Annual Business Meeting
DESCRIPTION:2021 AIA Annual Meeting – AIA
URL:https://aiatn.org/event/aia-national-annual-business-meeting/
END:VEVENT
BEGIN:VEVENT
DTSTART;VALUE=DATE:20210616
DTEND;VALUE=DATE:20210620
DTSTAMP:20260424T190855
CREATED:20210517T085129Z
LAST-MODIFIED:20210520T085124Z
UID:4464-1623801600-1624147199@aiatn.org
SUMMARY:AIA National: Conference on Architecture 2021
DESCRIPTION:Visit www.aia.org to learn more about the AIA National Conference.
URL:https://aiatn.org/event/aia-national-conference-on-architecture-2021/
END:VEVENT
BEGIN:VEVENT
DTSTART;TZID=America/Chicago:20210617T110000
DTEND;TZID=America/Chicago:20210617T133000
DTSTAMP:20260424T190855
CREATED:20210518T085129Z
LAST-MODIFIED:20210602T155128Z
UID:4474-1623927600-1623936600@aiatn.org
SUMMARY:Third Thursday (AIA Memphis)
DESCRIPTION:For more information: https://www.aiamemphis.org/calendar
URL:https://aiatn.org/event/third-thursday-aia-memphis-4/
LOCATION:University Club of Memphis\, 1346 Central Ave\, Memphis\, TN 38104\, USA
END:VEVENT
BEGIN:VEVENT
DTSTART;TZID=America/Chicago:20210618T143000
DTEND;TZID=America/Chicago:20210618T153000
DTSTAMP:20260424T190855
CREATED:20210602T165113Z
LAST-MODIFIED:20210618T195113Z
UID:4686-1624026600-1624030200@aiatn.org
SUMMARY:Juneteenth Trivia Challenge
DESCRIPTION:In celebration of Juneteenth and the opening of the Africatown International Design Idea Competition\, AIA Tennessee\, NOMA Memphis and NOMAnash are celebrating by hosting a Virtual Trivia Challenge! Join us on the afternoon of Friday\, June 18 at 2:30PM|CDT (3:30 PM|EDT) for an educational AND fun interactive game with NOMA & AIA members from across the state of Tennessee. Register and Learn more at https://aiatn.org/juneteenth-trivia-challenge/
URL:https://aiatn.org/event/juneteenth-trivia-challenge/
LOCATION:Via Zoom: https://us02web.zoom.us/j/84913545688?pwd=WmR4TjQ3MlFrc1Zud0pXMlFNdkJFZz09
END:VEVENT
BEGIN:VEVENT
DTSTART;TZID=America/Chicago:20210622T143000
DTEND;TZID=America/Chicago:20210622T153000
DTSTAMP:20260424T190855
CREATED:20210523T093730Z
LAST-MODIFIED:20210622T193713Z
UID:4490-1624372200-1624375800@aiatn.org
SUMMARY:AIA TN Justice Equity + Diversity Inclusion Committee Meeting
DESCRIPTION:Please contact the AIA TN office for more information about this committee.
URL:https://aiatn.org/event/aia-tn-justice-equity-diversity-inclusion-committee-meeting-5/
END:VEVENT
BEGIN:VEVENT
DTSTART;TZID=America/Chicago:20210624T120000
DTEND;TZID=America/Chicago:20210624T130000
DTSTAMP:20260424T190855
CREATED:20210624T175111Z
LAST-MODIFIED:20210624T183703Z
UID:5330-1624536000-1624539600@aiatn.org
SUMMARY:AIA Memphis Monthly Luncheon
DESCRIPTION:For more information: 2021 Luncheon Programs (aiamemphis.org)
URL:https://aiatn.org/event/aia-memphis-monthly-luncheon/
LOCATION:TBA
END:VEVENT
END:VCALENDAR