BEGIN:VCALENDAR
VERSION:2.0
PRODID:-//AIA Tennessee - ECPv6.15.20//NONSGML v1.0//EN
CALSCALE:GREGORIAN
METHOD:PUBLISH
X-ORIGINAL-URL:https://aiatn.org
X-WR-CALDESC:Events for AIA Tennessee
REFRESH-INTERVAL;VALUE=DURATION:PT1H
X-Robots-Tag:noindex
X-PUBLISHED-TTL:PT1H
BEGIN:VTIMEZONE
TZID:America/Chicago
BEGIN:DAYLIGHT
TZOFFSETFROM:-0600
TZOFFSETTO:-0500
TZNAME:CDT
DTSTART:20200308T080000
END:DAYLIGHT
BEGIN:STANDARD
TZOFFSETFROM:-0500
TZOFFSETTO:-0600
TZNAME:CST
DTSTART:20201101T070000
END:STANDARD
BEGIN:DAYLIGHT
TZOFFSETFROM:-0600
TZOFFSETTO:-0500
TZNAME:CDT
DTSTART:20210314T080000
END:DAYLIGHT
BEGIN:STANDARD
TZOFFSETFROM:-0500
TZOFFSETTO:-0600
TZNAME:CST
DTSTART:20211107T070000
END:STANDARD
BEGIN:DAYLIGHT
TZOFFSETFROM:-0600
TZOFFSETTO:-0500
TZNAME:CDT
DTSTART:20220313T080000
END:DAYLIGHT
BEGIN:STANDARD
TZOFFSETFROM:-0500
TZOFFSETTO:-0600
TZNAME:CST
DTSTART:20221106T070000
END:STANDARD
END:VTIMEZONE
BEGIN:VEVENT
DTSTART;VALUE=DATE:20210830
DTEND;VALUE=DATE:20210904
DTSTAMP:20260424T142258
CREATED:20210624T183702Z
LAST-MODIFIED:20210901T005102Z
UID:5341-1630281600-1630713599@aiatn.org
SUMMARY:CACE Annual Meeting (at Dale's)
DESCRIPTION:https://events.aia.org/s/lt-event?id=a1Y1U000001kfvO#/Schedule \nClosing keynote: Building a Culture of Equity\, Inclusion\, and BelongingFree \nGeneral session: CACE Business MeetingFree \nKeynote: 2021–2022 Economic Outlook for ComponentsFree \nOpening general session: Candidates & AwardsFree \nSession 1: Strategically Developing the Right BoardFree \nSession 2: Determining Your Chapter’s Future Technology StrategyFree \nSession 3: Engaging Members in Local AdvocacyFree \nWorkshop: Hybrid Events: What Do I Need to KnowFree \nWorkshop: Sustainability Resources for Components & Firms \n \nThere was great enthusiasm about moving our Lake Day to coincide with the CACE Conference\, so here we go!  The conference opens on Tuesday\, August 31 at 11:00 AM EST.  It concludes on Thursday\, September 2 at 4:00 PM EST.  The TALN “conference center” is called Watts Bar & Grill.  It is located at 2175 Spruce Drive; Spring City\, TN 37838.  (I will send you very specific directions before the day—GPS will take you into what we refer to as “the Deliverance Zone.”) You may begin check-in on Monday\, August 30th after lunch.  Check out may be as late as Friday\, September 3rd.  I have 4 bedrooms with double beds in each and two bathrooms.  The couch obviously also sleeps well\, as I find bodies there regularly.  I currently have zero air mattresses as my last one was used as a trampoline and died.  \n  \nTuesday evening\, we will be celebrating Amber’s election as President-Elect.  (Memphis has this track record…)  She’s bringing the Champagne.  Normally\, at a live conference\, we would all dress up\, themed to match the site.  (Lots of big hats when we were at Churchill Downs\, for example.)  You’ll be at a lake house.  I’m not recommending bathing suits for that event\, to be clear.  Bring one\, however\, because the water should still be delightful and the boat will be at the ready for evening cruises.  Or morning cruises.  There are also 2 kayaks available.  Water shoes recommended (or flip-flops) because our 30-year-old dock is in its last season and the wood is rough.  I have more beach towels than Walmart. \n  \nIn the kitchen\, I have a Keurig (necessities first!) and a selection of choices for it.  Feel free to bring any favored pods\, if you are particular.  There is a fridge of moderate size\, a stove and oven\, grill\, toaster oven\, blender\, steamer…  It’s relatively full-service.  I have 2 Brita filters for water and we can make pitchers of tea.  Other beverages (sodas or adult) should be imported.  I’ll have a small wine selection for sharing\, but do not ask me to be a bartender; nor is there a great selection of bartending tools\, although I have a muddler.  Once we have an idea of who will be there for what night\, we can talk about food.  Amber suggested rotating meal responsibility\, which I am quite happy to share!  \n  \nLet me know when you think you’ll arrive/depart\, and we’ll go from there.  Let’s show our CACE cohorts what collaboration really look like!  😊 \n 
URL:https://aiatn.org/event/cace-annual-meeting-virtual/
LOCATION:Dale’s Lakehouse
END:VEVENT
BEGIN:VEVENT
DTSTART;VALUE=DATE:20210831
DTEND;VALUE=DATE:20210904
DTSTAMP:20260424T142258
CREATED:20210603T173752Z
LAST-MODIFIED:20210903T233708Z
UID:4725-1630368000-1630713599@aiatn.org
SUMMARY:AIA National CACE Annual Meeting
DESCRIPTION:
URL:https://aiatn.org/event/aia-national-cace-annual-meeting/
LOCATION:Memphis\, TN\, USA
END:VEVENT
BEGIN:VEVENT
DTSTART;TZID=America/Chicago:20210909T120000
DTEND;TZID=America/Chicago:20210909T130000
DTSTAMP:20260424T142258
CREATED:20210624T175126Z
LAST-MODIFIED:20210909T173708Z
UID:5338-1631188800-1631192400@aiatn.org
SUMMARY:AIA Memphis Monthly Luncheon (August)
DESCRIPTION:The AIA Memphis Luncheon originally scheduled for August 19 will now be September 9. \nFor more information: 2021 Luncheon Programs (aiamemphis.org)
URL:https://aiatn.org/event/aia-memphis-monthly-luncheon-2/
LOCATION:zoom
END:VEVENT
BEGIN:VEVENT
DTSTART;VALUE=DATE:20210917
DTEND;VALUE=DATE:20210918
DTSTAMP:20260424T142258
CREATED:20210624T183702Z
LAST-MODIFIED:20210913T155106Z
UID:5343-1631836800-1631923199@aiatn.org
SUMMARY:Golf Tournament
DESCRIPTION:For more information: https://www.aiamemphis.org/
URL:https://aiatn.org/event/golf-tournament/
LOCATION:Timber Truss Golf Course\, 9425 Plantation Rd\, Olive Branch\, MS 38654\, USA
END:VEVENT
BEGIN:VEVENT
DTSTART;TZID=America/Chicago:20210923T120000
DTEND;TZID=America/Chicago:20210923T130000
DTSTAMP:20260424T142258
CREATED:20210624T183702Z
LAST-MODIFIED:20210920T163707Z
UID:5345-1632398400-1632402000@aiatn.org
SUMMARY:Forum: AIA Memphis Monthly Luncheon
DESCRIPTION:For more information: 2021 Luncheon Programs (aiamemphis.org) \nJoin Zoom Meetinghttps://us02web.zoom.us/j/85619917288Meeting ID: 856 1991 7288One tap mobile+19292056099\,\,85619917288# US (New York)+13017158592\,\,85619917288# US (Washington DC)Dial by your location        +1 929 205 6099 US (New York)        +1 301 715 8592 US (Washington DC)        +1 312 626 6799 US (Chicago)        +1 669 900 6833 US (San Jose)        +1 253 215 8782 US (Tacoma)        +1 346 248 7799 US (Houston)Meeting ID: 856 1991 7288Find your local number: https://us02web.zoom.us/u/kdEaEHj896
URL:https://aiatn.org/event/aia-memphis-monthly-luncheon-3/
LOCATION:https://us02web.zoom.us/j/85619917288
END:VEVENT
BEGIN:VEVENT
DTSTART;TZID=America/Chicago:20210928T143000
DTEND;TZID=America/Chicago:20210928T153000
DTSTAMP:20260424T142258
CREATED:20210603T173752Z
LAST-MODIFIED:20210928T195109Z
UID:4726-1632839400-1632843000@aiatn.org
SUMMARY:AIA TN Justice Equity + Diversity Inclusion Committee Meeting
DESCRIPTION:Please contact the AIA TN office for more information about this committee.
URL:https://aiatn.org/event/aia-tn-justice-equity-diversity-inclusion-committee-meeting-8/
END:VEVENT
END:VCALENDAR