BEGIN:VCALENDAR
VERSION:2.0
PRODID:-//AIA Tennessee - ECPv6.15.20//NONSGML v1.0//EN
CALSCALE:GREGORIAN
METHOD:PUBLISH
X-ORIGINAL-URL:https://aiatn.org
X-WR-CALDESC:Events for AIA Tennessee
REFRESH-INTERVAL;VALUE=DURATION:PT1H
X-Robots-Tag:noindex
X-PUBLISHED-TTL:PT1H
BEGIN:VTIMEZONE
TZID:America/Chicago
BEGIN:DAYLIGHT
TZOFFSETFROM:-0600
TZOFFSETTO:-0500
TZNAME:CDT
DTSTART:20210314T080000
END:DAYLIGHT
BEGIN:STANDARD
TZOFFSETFROM:-0500
TZOFFSETTO:-0600
TZNAME:CST
DTSTART:20211107T070000
END:STANDARD
BEGIN:DAYLIGHT
TZOFFSETFROM:-0600
TZOFFSETTO:-0500
TZNAME:CDT
DTSTART:20220313T080000
END:DAYLIGHT
BEGIN:STANDARD
TZOFFSETFROM:-0500
TZOFFSETTO:-0600
TZNAME:CST
DTSTART:20221106T070000
END:STANDARD
BEGIN:DAYLIGHT
TZOFFSETFROM:-0600
TZOFFSETTO:-0500
TZNAME:CDT
DTSTART:20230312T080000
END:DAYLIGHT
BEGIN:STANDARD
TZOFFSETFROM:-0500
TZOFFSETTO:-0600
TZNAME:CST
DTSTART:20231105T070000
END:STANDARD
END:VTIMEZONE
BEGIN:VEVENT
DTSTART;VALUE=DATE:20220707
DTEND;VALUE=DATE:20220708
DTSTAMP:20260422T104831
CREATED:20220423T223731Z
LAST-MODIFIED:20220423T223734Z
UID:12593-1657152000-1657238399@aiatn.org
SUMMARY:Summer Intern Experience
DESCRIPTION:
URL:https://aiatn.org/event/summer-intern-experience-2/
END:VEVENT
BEGIN:VEVENT
DTSTART;VALUE=DATE:20220711
DTEND;VALUE=DATE:20220716
DTSTAMP:20260422T104831
CREATED:20220423T223731Z
LAST-MODIFIED:20220423T223734Z
UID:12594-1657497600-1657929599@aiatn.org
SUMMARY:Architecture Camp
DESCRIPTION:
URL:https://aiatn.org/event/architecture-camp/
END:VEVENT
BEGIN:VEVENT
DTSTART;VALUE=DATE:20220714
DTEND;VALUE=DATE:20220716
DTSTAMP:20260422T104831
CREATED:20220302T085106Z
LAST-MODIFIED:20220423T223734Z
UID:11174-1657756800-1657929599@aiatn.org
SUMMARY:AIA Architects in Action (Advocacy Training)
DESCRIPTION:https://www.aia.org/events/6473977-architects-in-action-22?utm_source=RealMagnet&utm_medium=email&utm_term=38693353–271fac35-7b59-4283-8839-545d58efd7a0&utm_content=Announcements%20and%20news–advocacy22%2Darch%2Din%2Daction%2Dstd&utm_campaign=Save%20the%20date%21%20Architects%20in%20Action%202022
URL:https://aiatn.org/event/aia-architects-in-action-advocacy-training/
END:VEVENT
BEGIN:VEVENT
DTSTART;TZID=America/Chicago:20220714T150000
DTEND;TZID=America/Chicago:20220714T160000
DTSTAMP:20260422T104831
CREATED:20220622T181239Z
LAST-MODIFIED:20220622T181239Z
UID:14658-1657810800-1657814400@aiatn.org
SUMMARY:OSA | Overview of Capital Improvement Projects
DESCRIPTION:OSA | Overview of Capital Projects – Free Webinar \nThursday\, July 14\n3pm/central (4pm/eastern)\n  \nIn partnership with the Office of the State Architect (OSA)\, ACEC TN and AIA TN will host an online webinar for members on Thursday\, July 14 at 3pm/CT (4pm/ET). \nState Architect\, Ann McGauran\, AIA\, will provide an overview of the capital improvements projects included in the State’s 2022-23 fiscal budget\, and how the OSA can be a resource to you/your firm as you determine pursuing various projects.
URL:https://aiatn.org/event/osa-overview-of-capital-improvement-projects/
END:VEVENT
BEGIN:VEVENT
DTSTART;VALUE=DATE:20220718
DTEND;VALUE=DATE:20220723
DTSTAMP:20260422T104831
CREATED:20220423T223732Z
LAST-MODIFIED:20220423T223734Z
UID:12595-1658102400-1658534399@aiatn.org
SUMMARY:Architecture Camp
DESCRIPTION:
URL:https://aiatn.org/event/architecture-camp-2/
END:VEVENT
BEGIN:VEVENT
DTSTART;TZID=America/Chicago:20220727T110000
DTEND;TZID=America/Chicago:20220727T130000
DTSTAMP:20260422T104831
CREATED:20220419T181234Z
LAST-MODIFIED:20220419T181234Z
UID:12471-1658919600-1658926800@aiatn.org
SUMMARY:AIA TN Board of Directors Meeting
DESCRIPTION:
URL:https://aiatn.org/event/aia-tn-board-of-directors-meeting-4/
END:VEVENT
BEGIN:VEVENT
DTSTART;VALUE=DATE:20220728
DTEND;VALUE=DATE:20220729
DTSTAMP:20260422T104831
CREATED:20220423T223732Z
LAST-MODIFIED:20220423T223734Z
UID:12596-1658966400-1659052799@aiatn.org
SUMMARY:Summer Salon
DESCRIPTION:
URL:https://aiatn.org/event/summer-salon-2/
END:VEVENT
END:VCALENDAR