BEGIN:VCALENDAR
VERSION:2.0
PRODID:-//AIA Tennessee - ECPv6.15.20//NONSGML v1.0//EN
CALSCALE:GREGORIAN
METHOD:PUBLISH
X-ORIGINAL-URL:https://aiatn.org
X-WR-CALDESC:Events for AIA Tennessee
REFRESH-INTERVAL;VALUE=DURATION:PT1H
X-Robots-Tag:noindex
X-PUBLISHED-TTL:PT1H
BEGIN:VTIMEZONE
TZID:America/Chicago
BEGIN:DAYLIGHT
TZOFFSETFROM:-0600
TZOFFSETTO:-0500
TZNAME:CDT
DTSTART:20210314T080000
END:DAYLIGHT
BEGIN:STANDARD
TZOFFSETFROM:-0500
TZOFFSETTO:-0600
TZNAME:CST
DTSTART:20211107T070000
END:STANDARD
BEGIN:DAYLIGHT
TZOFFSETFROM:-0600
TZOFFSETTO:-0500
TZNAME:CDT
DTSTART:20220313T080000
END:DAYLIGHT
BEGIN:STANDARD
TZOFFSETFROM:-0500
TZOFFSETTO:-0600
TZNAME:CST
DTSTART:20221106T070000
END:STANDARD
BEGIN:DAYLIGHT
TZOFFSETFROM:-0600
TZOFFSETTO:-0500
TZNAME:CDT
DTSTART:20230312T080000
END:DAYLIGHT
BEGIN:STANDARD
TZOFFSETFROM:-0500
TZOFFSETTO:-0600
TZNAME:CST
DTSTART:20231105T070000
END:STANDARD
END:VTIMEZONE
BEGIN:VEVENT
DTSTART;VALUE=DATE:20220810
DTEND;VALUE=DATE:20220813
DTSTAMP:20260422T090204
CREATED:20220121T211854Z
LAST-MODIFIED:20220531T172934Z
UID:10128-1660089600-1660348799@aiatn.org
SUMMARY:AIA TN 2022 Conference on Architecture
DESCRIPTION:We are in-person this year in Chattanooga to celebrate architecture! Check out the schedule\, location/lodging and registration information for more details. Learn more.
URL:https://aiatn.org/event/aia-tn-2022-conference-on-architecture/
END:VEVENT
BEGIN:VEVENT
DTSTART;VALUE=DATE:20220810
DTEND;VALUE=DATE:20220813
DTSTAMP:20260422T090204
CREATED:20220302T085106Z
LAST-MODIFIED:20220423T223734Z
UID:11176-1660089600-1660348799@aiatn.org
SUMMARY:AIA TN Conference - Chattanooga
DESCRIPTION:
URL:https://aiatn.org/event/aia-tn-conference/
LOCATION:Chattanooga\, TN\, USA
END:VEVENT
BEGIN:VEVENT
DTSTART;VALUE=DATE:20220816
DTEND;VALUE=DATE:20220820
DTSTAMP:20260422T090204
CREATED:20220302T085106Z
LAST-MODIFIED:20220423T223734Z
UID:11177-1660608000-1660953599@aiatn.org
SUMMARY:CACE Annual Meeting - Memphis
DESCRIPTION:
URL:https://aiatn.org/event/cace-annual-meeting-memphis/
END:VEVENT
BEGIN:VEVENT
DTSTART;TZID=America/Chicago:20220825T113000
DTEND;TZID=America/Chicago:20220825T130000
DTSTAMP:20260422T090204
CREATED:20220423T223732Z
LAST-MODIFIED:20220423T223734Z
UID:12597-1661427000-1661432400@aiatn.org
SUMMARY:Forum Monthly Luncheon
DESCRIPTION:
URL:https://aiatn.org/event/forum-monthly-luncheon-2/
END:VEVENT
END:VCALENDAR