BEGIN:VCALENDAR
VERSION:2.0
PRODID:-//AIA Tennessee - ECPv6.15.20//NONSGML v1.0//EN
CALSCALE:GREGORIAN
METHOD:PUBLISH
X-ORIGINAL-URL:https://aiatn.org
X-WR-CALDESC:Events for AIA Tennessee
REFRESH-INTERVAL;VALUE=DURATION:PT1H
X-Robots-Tag:noindex
X-PUBLISHED-TTL:PT1H
BEGIN:VTIMEZONE
TZID:America/Chicago
BEGIN:DAYLIGHT
TZOFFSETFROM:-0600
TZOFFSETTO:-0500
TZNAME:CDT
DTSTART:20210314T080000
END:DAYLIGHT
BEGIN:STANDARD
TZOFFSETFROM:-0500
TZOFFSETTO:-0600
TZNAME:CST
DTSTART:20211107T070000
END:STANDARD
BEGIN:DAYLIGHT
TZOFFSETFROM:-0600
TZOFFSETTO:-0500
TZNAME:CDT
DTSTART:20220313T080000
END:DAYLIGHT
BEGIN:STANDARD
TZOFFSETFROM:-0500
TZOFFSETTO:-0600
TZNAME:CST
DTSTART:20221106T070000
END:STANDARD
BEGIN:DAYLIGHT
TZOFFSETFROM:-0600
TZOFFSETTO:-0500
TZNAME:CDT
DTSTART:20230312T080000
END:DAYLIGHT
BEGIN:STANDARD
TZOFFSETFROM:-0500
TZOFFSETTO:-0600
TZNAME:CST
DTSTART:20231105T070000
END:STANDARD
END:VTIMEZONE
BEGIN:VEVENT
DTSTART;VALUE=DATE:20221110
DTEND;VALUE=DATE:20221112
DTSTAMP:20260422T035500
CREATED:20220419T182025Z
LAST-MODIFIED:20220419T182025Z
UID:12477-1668038400-1668211199@aiatn.org
SUMMARY:AIA TN Board of Directors Planning Retreat
DESCRIPTION:
URL:https://aiatn.org/event/aia-tn-board-of-directors-planning-retreat/
LOCATION:Fall Creek Falls State Park\, 2536 Lakeside Drive\, Spencer\, TN\, 38585\, United States
END:VEVENT
BEGIN:VEVENT
DTSTART;TZID=America/Chicago:20221117T113000
DTEND;TZID=America/Chicago:20221117T130000
DTSTAMP:20260422T035500
CREATED:20220423T223733Z
LAST-MODIFIED:20220423T223734Z
UID:12602-1668684600-1668690000@aiatn.org
SUMMARY:Forum Monthly Luncheon
DESCRIPTION:
URL:https://aiatn.org/event/forum-monthly-luncheon-5/
END:VEVENT
END:VCALENDAR