BEGIN:VCALENDAR
VERSION:2.0
PRODID:-//AIA Tennessee - ECPv6.15.20//NONSGML v1.0//EN
CALSCALE:GREGORIAN
METHOD:PUBLISH
X-WR-CALNAME:AIA Tennessee
X-ORIGINAL-URL:https://aiatn.org
X-WR-CALDESC:Events for AIA Tennessee
REFRESH-INTERVAL;VALUE=DURATION:PT1H
X-Robots-Tag:noindex
X-PUBLISHED-TTL:PT1H
BEGIN:VTIMEZONE
TZID:America/Chicago
BEGIN:DAYLIGHT
TZOFFSETFROM:-0600
TZOFFSETTO:-0500
TZNAME:CDT
DTSTART:20220313T080000
END:DAYLIGHT
BEGIN:STANDARD
TZOFFSETFROM:-0500
TZOFFSETTO:-0600
TZNAME:CST
DTSTART:20221106T070000
END:STANDARD
BEGIN:DAYLIGHT
TZOFFSETFROM:-0600
TZOFFSETTO:-0500
TZNAME:CDT
DTSTART:20230312T080000
END:DAYLIGHT
BEGIN:STANDARD
TZOFFSETFROM:-0500
TZOFFSETTO:-0600
TZNAME:CST
DTSTART:20231105T070000
END:STANDARD
BEGIN:DAYLIGHT
TZOFFSETFROM:-0600
TZOFFSETTO:-0500
TZNAME:CDT
DTSTART:20240310T080000
END:DAYLIGHT
BEGIN:STANDARD
TZOFFSETFROM:-0500
TZOFFSETTO:-0600
TZNAME:CST
DTSTART:20241103T070000
END:STANDARD
END:VTIMEZONE
BEGIN:VEVENT
DTSTART;TZID=America/Chicago:20230303T110000
DTEND;TZID=America/Chicago:20230303T130000
DTSTAMP:20260421T213041
CREATED:20230116T140447Z
LAST-MODIFIED:20230202T021611Z
UID:20471-1677841200-1677848400@aiatn.org
SUMMARY:2023 SpeakUP Advocacy Series: Part Two
DESCRIPTION:The second part of SpeakUP focuses on lobbying and preparing for AIA TN’s Day on the Hill on Tuesday\, March 7.  Learn exactly the difference between Lobbying vs. Advocating\, the issues that AIA TN  either lobbies for/against on Tennessee’s Capitol Hill and how you can lobbying your state legislators for the betterment of the profession! Learn more.
URL:https://aiatn.org/event/2023-speakup-advocacy-series-part-two/
ORGANIZER;CN="AIA TN":MAILTO:info@aiatn.org
END:VEVENT
BEGIN:VEVENT
DTSTART;VALUE=DATE:20230307
DTEND;VALUE=DATE:20230308
DTSTAMP:20260421T213041
CREATED:20221216T141848Z
LAST-MODIFIED:20230202T021656Z
UID:19477-1678147200-1678233599@aiatn.org
SUMMARY:AIA Day on the Hill & Legislative Reception
DESCRIPTION:Join us in Nashville for our annual Legislative Day on the Hill when we meet with state legislators to increase awareness of the profession and advocate for the built environment. Register today.
URL:https://aiatn.org/event/aia-day-on-the-hill-legislative-reception/
LOCATION:Nashville\, TN
END:VEVENT
END:VCALENDAR