BEGIN:VCALENDAR
VERSION:2.0
PRODID:-//AIA Tennessee - ECPv6.15.20//NONSGML v1.0//EN
CALSCALE:GREGORIAN
METHOD:PUBLISH
X-ORIGINAL-URL:https://aiatn.org
X-WR-CALDESC:Events for AIA Tennessee
REFRESH-INTERVAL;VALUE=DURATION:PT1H
X-Robots-Tag:noindex
X-PUBLISHED-TTL:PT1H
BEGIN:VTIMEZONE
TZID:America/Chicago
BEGIN:DAYLIGHT
TZOFFSETFROM:-0600
TZOFFSETTO:-0500
TZNAME:CDT
DTSTART:20220313T080000
END:DAYLIGHT
BEGIN:STANDARD
TZOFFSETFROM:-0500
TZOFFSETTO:-0600
TZNAME:CST
DTSTART:20221106T070000
END:STANDARD
BEGIN:DAYLIGHT
TZOFFSETFROM:-0600
TZOFFSETTO:-0500
TZNAME:CDT
DTSTART:20230312T080000
END:DAYLIGHT
BEGIN:STANDARD
TZOFFSETFROM:-0500
TZOFFSETTO:-0600
TZNAME:CST
DTSTART:20231105T070000
END:STANDARD
BEGIN:DAYLIGHT
TZOFFSETFROM:-0600
TZOFFSETTO:-0500
TZNAME:CDT
DTSTART:20240310T080000
END:DAYLIGHT
BEGIN:STANDARD
TZOFFSETFROM:-0500
TZOFFSETTO:-0600
TZNAME:CST
DTSTART:20241103T070000
END:STANDARD
END:VTIMEZONE
BEGIN:VEVENT
DTSTART;TZID=America/Chicago:20230417T080000
DTEND;TZID=America/Chicago:20230417T170000
DTSTAMP:20260421T194755
CREATED:20230418T162521Z
LAST-MODIFIED:20230418T162800Z
UID:22946-1681718400-1681750800@aiatn.org
SUMMARY:AIA TN Design Awards Call for Entries Open
DESCRIPTION:AIA Tennessee has opened our Call for Entries for the 2023 Design Awards! All members of AIA Tennessee are eligible to enter a submission of a built project of the last five years for consideration. Submitted work will be judged in the following categories: \n\n· New Construction\n· Restoration/Renovation\n· Architecture Interior Design\n\nEach project will be judged according to its own merit\, how well it solves the problem addressed. Projects will not be judged in competition with each other\, but by measuring the architect’s performance against each project’s potential. Awards will be given in two categories: Honor Awards and Merit Awards. Award recipients will be announced\, and awards will be presented at the AIA Tennessee 2023 Conference on Architecture on August 3 in Memphis. \nPlease be aware that there are two stages to entering the Design Awards: submitting the entry form with payment by May 8\, and electronically uploading your submission using the platform and code provided. Mark your calendars for the awards timeline: \n\n· April 17\, 2023 – Call for Entries Open\n· May 8\, 2023 – Entry Form and Related Fees Due\n· May 9\, 2023 – Codes and Template Sent to Entrants\n· June 5\, 2023 – Submission Deadline by 5:00pm (CST)\n· August 3\, 2023 – Design Awards Presentation – Hyatt Centric\, Memphis
URL:https://aiatn.org/event/aia-tn-design-awards-call-for-entries-open/
END:VEVENT
BEGIN:VEVENT
DTSTART;VALUE=DATE:20230425
DTEND;VALUE=DATE:20230426
DTSTAMP:20260421T194755
CREATED:20230116T141136Z
LAST-MODIFIED:20230116T141136Z
UID:20478-1682380800-1682467199@aiatn.org
SUMMARY:AIA TN Board of Directors Meeting
DESCRIPTION:
URL:https://aiatn.org/event/aia-tn-board-of-directors-meeting-7/
END:VEVENT
BEGIN:VEVENT
DTSTART;TZID=America/Chicago:20230425T120000
DTEND;TZID=America/Chicago:20230425T130000
DTSTAMP:20260421T194755
CREATED:20230404T182518Z
LAST-MODIFIED:20230404T182518Z
UID:22598-1682424000-1682427600@aiatn.org
SUMMARY:College of Fellows Workshop (Free & Online)
DESCRIPTION:Regional Representatives of the AIA College of Fellows for the Gulf States. They have scheduled a regional Zoom meeting on Tuesday\, April 25 at Noon Central time to provide information and guidance for AIA members who are interested in the possibility of pursuing AIA Fellowship.\n\n \nTuesday\, April 25 | Noon/Central (1pm/Eastern) | No Registration Required\n \n\nClick on the Zoom Link:\n\n \n\nhttps://tulane.zoom.us/s/97127375378#success\n\n \n\nThis is open to all AIA members and current AIA Fellows who may wish to become sponsors or supporters of colleagues who are interested in going up for Fellowship. No registration is required\, although all participants will be asked to indicate their names and email addresses so a follow up can be sent to them.
URL:https://aiatn.org/event/college-of-fellows-workshop-free-online/
END:VEVENT
END:VCALENDAR