BEGIN:VCALENDAR
VERSION:2.0
PRODID:-//AIA Tennessee - ECPv6.15.20//NONSGML v1.0//EN
CALSCALE:GREGORIAN
METHOD:PUBLISH
X-ORIGINAL-URL:https://aiatn.org
X-WR-CALDESC:Events for AIA Tennessee
REFRESH-INTERVAL;VALUE=DURATION:PT1H
X-Robots-Tag:noindex
X-PUBLISHED-TTL:PT1H
BEGIN:VTIMEZONE
TZID:America/Chicago
BEGIN:DAYLIGHT
TZOFFSETFROM:-0600
TZOFFSETTO:-0500
TZNAME:CDT
DTSTART:20220313T080000
END:DAYLIGHT
BEGIN:STANDARD
TZOFFSETFROM:-0500
TZOFFSETTO:-0600
TZNAME:CST
DTSTART:20221106T070000
END:STANDARD
BEGIN:DAYLIGHT
TZOFFSETFROM:-0600
TZOFFSETTO:-0500
TZNAME:CDT
DTSTART:20230312T080000
END:DAYLIGHT
BEGIN:STANDARD
TZOFFSETFROM:-0500
TZOFFSETTO:-0600
TZNAME:CST
DTSTART:20231105T070000
END:STANDARD
BEGIN:DAYLIGHT
TZOFFSETFROM:-0600
TZOFFSETTO:-0500
TZNAME:CDT
DTSTART:20240310T080000
END:DAYLIGHT
BEGIN:STANDARD
TZOFFSETFROM:-0500
TZOFFSETTO:-0600
TZNAME:CST
DTSTART:20241103T070000
END:STANDARD
END:VTIMEZONE
BEGIN:VEVENT
DTSTART;VALUE=DATE:20230713
DTEND;VALUE=DATE:20230715
DTSTAMP:20260421T143216
CREATED:20230208T190554Z
LAST-MODIFIED:20230208T190554Z
UID:21136-1689206400-1689379199@aiatn.org
SUMMARY:Architects in Action 2023 | AIA Legislative Exchange
DESCRIPTION:Save the date | A Virtual Event\nAIA’s premier policy and advocacy event | July 13-14 \nGather (virtually) with friends and colleagues to reconnect and build your advocacy community. Learn new ways to recruit\, inspire\, and train advocates. Hear from thought-provoking speakers\, including award-winning architects\, who will challenge your preconceptions of state and local advocacy. And\, as always\, engage with large and small AIA components and their members who are doing innovative work across the country. \nPlease feel free to share this invitation with any members from your state or local component who are involved in advocacy on behalf of AIA\, including emerging professionals or AIAS members.
URL:https://aiatn.org/event/architects-in-action-2023-aia-legislative-exchange/
END:VEVENT
BEGIN:VEVENT
DTSTART;TZID=America/Chicago:20230726T110000
DTEND;TZID=America/Chicago:20230726T130000
DTSTAMP:20260421T143216
CREATED:20230705T180316Z
LAST-MODIFIED:20230705T180316Z
UID:25481-1690369200-1690376400@aiatn.org
SUMMARY:AIA Tennessee Board of Directors Meeting
DESCRIPTION:The board of directors will hold its quarterly meeting online. For more information\, contact Ashley Cates at 615.255.3860
URL:https://aiatn.org/event/aia-tennessee-board-of-directors-meeting/
END:VEVENT
END:VCALENDAR