BEGIN:VCALENDAR
VERSION:2.0
PRODID:-//AIA Tennessee - ECPv6.15.20//NONSGML v1.0//EN
CALSCALE:GREGORIAN
METHOD:PUBLISH
X-WR-CALNAME:AIA Tennessee
X-ORIGINAL-URL:https://aiatn.org
X-WR-CALDESC:Events for AIA Tennessee
REFRESH-INTERVAL;VALUE=DURATION:PT1H
X-Robots-Tag:noindex
X-PUBLISHED-TTL:PT1H
BEGIN:VTIMEZONE
TZID:America/Chicago
BEGIN:DAYLIGHT
TZOFFSETFROM:-0600
TZOFFSETTO:-0500
TZNAME:CDT
DTSTART:20220313T080000
END:DAYLIGHT
BEGIN:STANDARD
TZOFFSETFROM:-0500
TZOFFSETTO:-0600
TZNAME:CST
DTSTART:20221106T070000
END:STANDARD
BEGIN:DAYLIGHT
TZOFFSETFROM:-0600
TZOFFSETTO:-0500
TZNAME:CDT
DTSTART:20230312T080000
END:DAYLIGHT
BEGIN:STANDARD
TZOFFSETFROM:-0500
TZOFFSETTO:-0600
TZNAME:CST
DTSTART:20231105T070000
END:STANDARD
BEGIN:DAYLIGHT
TZOFFSETFROM:-0600
TZOFFSETTO:-0500
TZNAME:CDT
DTSTART:20240310T080000
END:DAYLIGHT
BEGIN:STANDARD
TZOFFSETFROM:-0500
TZOFFSETTO:-0600
TZNAME:CST
DTSTART:20241103T070000
END:STANDARD
END:VTIMEZONE
BEGIN:VTIMEZONE
TZID:America/New_York
BEGIN:DAYLIGHT
TZOFFSETFROM:-0500
TZOFFSETTO:-0400
TZNAME:EDT
DTSTART:20220313T070000
END:DAYLIGHT
BEGIN:STANDARD
TZOFFSETFROM:-0400
TZOFFSETTO:-0500
TZNAME:EST
DTSTART:20221106T060000
END:STANDARD
BEGIN:DAYLIGHT
TZOFFSETFROM:-0500
TZOFFSETTO:-0400
TZNAME:EDT
DTSTART:20230312T070000
END:DAYLIGHT
BEGIN:STANDARD
TZOFFSETFROM:-0400
TZOFFSETTO:-0500
TZNAME:EST
DTSTART:20231105T060000
END:STANDARD
BEGIN:DAYLIGHT
TZOFFSETFROM:-0500
TZOFFSETTO:-0400
TZNAME:EDT
DTSTART:20240310T070000
END:DAYLIGHT
BEGIN:STANDARD
TZOFFSETFROM:-0400
TZOFFSETTO:-0500
TZNAME:EST
DTSTART:20241103T060000
END:STANDARD
END:VTIMEZONE
BEGIN:VEVENT
DTSTART;VALUE=DATE:20230802
DTEND;VALUE=DATE:20230805
DTSTAMP:20260421T130349
CREATED:20230116T141032Z
LAST-MODIFIED:20230116T141032Z
UID:20474-1690934400-1691193599@aiatn.org
SUMMARY:2023 AIA TN Conference on Architecture
DESCRIPTION:We are heading to Memphis this summer! The committee is working to identify presentation sessions\, tours and workshops that inspire you as well as providing you with CE! Stay tuned for more information about the Hotel Block and Registration!
URL:https://aiatn.org/event/2023-aia-tn-conference-on-architecture/
LOCATION:Hyatt Centric Beale Street\, 33 Beale St\, Memphis\, TN\, 38103\, United States
ORGANIZER;CN="AIA TN":MAILTO:info@aiatn.org
END:VEVENT
BEGIN:VEVENT
DTSTART;TZID=America/New_York:20230823T113000
DTEND;TZID=America/New_York:20230823T130000
DTSTAMP:20260421T130349
CREATED:20230727T171333Z
LAST-MODIFIED:20230727T173658Z
UID:26102-1692790200-1692795600@aiatn.org
SUMMARY:AIA Tennessee Member Meet-Up | Chattanooga
DESCRIPTION:In collaboration with AIA Chattanooga\, AIA Tennessee’s leadership and staff will be in Chattanooga to provide an in-depth review of our component’s progress\, challenges and opportunities and milestones achieved over the past year. \nWe hope you will Meet-Up with AIA TN’s leaders including\, president\, Valentina Cochran\, and executive vice president\, Ashley Cates\, as well as leaders from the Government Relations Committee to gain a deeper understanding of the association’s priorities and strategic plan. \n 
URL:https://aiatn.org/event/aia-tennessee-member-meet-up-chattanooga/
END:VEVENT
END:VCALENDAR