BEGIN:VCALENDAR
VERSION:2.0
PRODID:-//AIA Tennessee - ECPv6.15.20//NONSGML v1.0//EN
CALSCALE:GREGORIAN
METHOD:PUBLISH
X-WR-CALNAME:AIA Tennessee
X-ORIGINAL-URL:https://aiatn.org
X-WR-CALDESC:Events for AIA Tennessee
REFRESH-INTERVAL;VALUE=DURATION:PT1H
X-Robots-Tag:noindex
X-PUBLISHED-TTL:PT1H
BEGIN:VTIMEZONE
TZID:America/Chicago
BEGIN:DAYLIGHT
TZOFFSETFROM:-0600
TZOFFSETTO:-0500
TZNAME:CDT
DTSTART:20220313T080000
END:DAYLIGHT
BEGIN:STANDARD
TZOFFSETFROM:-0500
TZOFFSETTO:-0600
TZNAME:CST
DTSTART:20221106T070000
END:STANDARD
BEGIN:DAYLIGHT
TZOFFSETFROM:-0600
TZOFFSETTO:-0500
TZNAME:CDT
DTSTART:20230312T080000
END:DAYLIGHT
BEGIN:STANDARD
TZOFFSETFROM:-0500
TZOFFSETTO:-0600
TZNAME:CST
DTSTART:20231105T070000
END:STANDARD
BEGIN:DAYLIGHT
TZOFFSETFROM:-0600
TZOFFSETTO:-0500
TZNAME:CDT
DTSTART:20240310T080000
END:DAYLIGHT
BEGIN:STANDARD
TZOFFSETFROM:-0500
TZOFFSETTO:-0600
TZNAME:CST
DTSTART:20241103T070000
END:STANDARD
END:VTIMEZONE
BEGIN:VEVENT
DTSTART;TZID=America/Chicago:20230921T113000
DTEND;TZID=America/Chicago:20230921T133000
DTSTAMP:20260421T111127
CREATED:20230905T173645Z
LAST-MODIFIED:20230905T173645Z
UID:27210-1695295800-1695303000@aiatn.org
SUMMARY:AIA TN Member Meet UP | Memphis
DESCRIPTION:AIA Memphis Third Thursday & AIA Tennessee’s Member Meet-Up | 1 LU \nDuring the Third Thursday Luncheon at AIA Memphis\, AIA Tennessee’s leadership and staff will be in Memphis to provide an in-depth review of our component’s progress\, challenges and opportunities and milestones achieved over the past year. \nWe hope you will Meet-Up with AIA TN’s leaders including\, president\, Valentina Cochran\, and executive vice president\, Ashley Cates\, as well as various committee leaders to gain a deeper understanding of the association’s priorities and strategic plan.
URL:https://aiatn.org/event/aia-tn-member-meet-up-memphis/
END:VEVENT
END:VCALENDAR