BEGIN:VCALENDAR
VERSION:2.0
PRODID:-//AIA Tennessee - ECPv6.15.20//NONSGML v1.0//EN
CALSCALE:GREGORIAN
METHOD:PUBLISH
X-ORIGINAL-URL:https://aiatn.org
X-WR-CALDESC:Events for AIA Tennessee
REFRESH-INTERVAL;VALUE=DURATION:PT1H
X-Robots-Tag:noindex
X-PUBLISHED-TTL:PT1H
BEGIN:VTIMEZONE
TZID:America/Chicago
BEGIN:DAYLIGHT
TZOFFSETFROM:-0600
TZOFFSETTO:-0500
TZNAME:CDT
DTSTART:20220313T080000
END:DAYLIGHT
BEGIN:STANDARD
TZOFFSETFROM:-0500
TZOFFSETTO:-0600
TZNAME:CST
DTSTART:20221106T070000
END:STANDARD
BEGIN:DAYLIGHT
TZOFFSETFROM:-0600
TZOFFSETTO:-0500
TZNAME:CDT
DTSTART:20230312T080000
END:DAYLIGHT
BEGIN:STANDARD
TZOFFSETFROM:-0500
TZOFFSETTO:-0600
TZNAME:CST
DTSTART:20231105T070000
END:STANDARD
BEGIN:DAYLIGHT
TZOFFSETFROM:-0600
TZOFFSETTO:-0500
TZNAME:CDT
DTSTART:20240310T080000
END:DAYLIGHT
BEGIN:STANDARD
TZOFFSETFROM:-0500
TZOFFSETTO:-0600
TZNAME:CST
DTSTART:20241103T070000
END:STANDARD
END:VTIMEZONE
BEGIN:VEVENT
DTSTART;TZID=America/Chicago:20231108T170000
DTEND;TZID=America/Chicago:20231108T190000
DTSTAMP:20260421T080304
CREATED:20230926T194126Z
LAST-MODIFIED:20230926T194126Z
UID:27737-1699462800-1699470000@aiatn.org
SUMMARY:AIA TN Member Meet Up | Middle TN
DESCRIPTION:Join us in Nashville as leadership from AIA Tennessee meets up with members! Save the Date and Stay Tuned for More Information.
URL:https://aiatn.org/event/aia-tn-member-meet-up-middle-tn/
END:VEVENT
BEGIN:VEVENT
DTSTART;TZID=America/Chicago:20231116T170000
DTEND;TZID=America/Chicago:20231116T190000
DTSTAMP:20260421T080304
CREATED:20230926T194250Z
LAST-MODIFIED:20230926T194250Z
UID:27742-1700154000-1700161200@aiatn.org
SUMMARY:AIA TN Member Meet Up | East TN
DESCRIPTION:Join us as leadership from AIA Tennessee meets with members in Knoxville! Stay tuned for more information.
URL:https://aiatn.org/event/aia-tn-member-meet-up-east-tn/
END:VEVENT
END:VCALENDAR