BEGIN:VCALENDAR
VERSION:2.0
PRODID:-//AIA Tennessee - ECPv6.15.20//NONSGML v1.0//EN
CALSCALE:GREGORIAN
METHOD:PUBLISH
X-ORIGINAL-URL:https://aiatn.org
X-WR-CALDESC:Events for AIA Tennessee
REFRESH-INTERVAL;VALUE=DURATION:PT1H
X-Robots-Tag:noindex
X-PUBLISHED-TTL:PT1H
BEGIN:VTIMEZONE
TZID:America/Chicago
BEGIN:DAYLIGHT
TZOFFSETFROM:-0600
TZOFFSETTO:-0500
TZNAME:CDT
DTSTART:20250309T080000
END:DAYLIGHT
BEGIN:STANDARD
TZOFFSETFROM:-0500
TZOFFSETTO:-0600
TZNAME:CST
DTSTART:20251102T070000
END:STANDARD
BEGIN:DAYLIGHT
TZOFFSETFROM:-0600
TZOFFSETTO:-0500
TZNAME:CDT
DTSTART:20260308T080000
END:DAYLIGHT
BEGIN:STANDARD
TZOFFSETFROM:-0500
TZOFFSETTO:-0600
TZNAME:CST
DTSTART:20261101T070000
END:STANDARD
BEGIN:DAYLIGHT
TZOFFSETFROM:-0600
TZOFFSETTO:-0500
TZNAME:CDT
DTSTART:20270314T080000
END:DAYLIGHT
BEGIN:STANDARD
TZOFFSETFROM:-0500
TZOFFSETTO:-0600
TZNAME:CST
DTSTART:20271107T070000
END:STANDARD
END:VTIMEZONE
BEGIN:VEVENT
DTSTART;VALUE=DATE:20260812
DTEND;VALUE=DATE:20260815
DTSTAMP:20260419T084453
CREATED:20251230T172647Z
LAST-MODIFIED:20251230T172647Z
UID:87127-1786492800-1786751999@aiatn.org
SUMMARY:2026 AIA TN Conference on Architecture
DESCRIPTION:Mark your calendar for the AIA Tennessee Conference on Architecture\, coming to Chattanooga on August 12–14 at The Westin Chattanooga. Join architects and industry partners from across the state for three days of inspiration\, learning\, connection\, and celebration in one of Tennessee’s most vibrant cities. More details coming soon—stay tuned!
URL:https://aiatn.org/event/2026-aia-tn-conference-on-architecture/
END:VEVENT
BEGIN:VEVENT
DTSTART;TZID=America/Chicago:20260827T113000
DTEND;TZID=America/Chicago:20260827T130000
DTSTAMP:20260419T084453
CREATED:20260120T185840Z
LAST-MODIFIED:20260120T185840Z
UID:89197-1787830200-1787835600@aiatn.org
SUMMARY:AIA Middle Tennessee 2026 Speaker Series: August Session
DESCRIPTION:See the full series line-up here. \n\n\n\nThe AIA Middle Tennessee Speaker Series is our chapter’s signature lecture program\, held at the Frist Art Museum. Each session features a distinguished architect or design professional — sometimes from Nashville\, sometimes from across the country or around the world — who brings fresh perspectives and expertise to our community. \nThese events serve as our local chapter meetings\, offering members the chance to connect with one another\, hear thought-provoking talks\, and engage in conversations about the future of architecture and design in Middle Tennessee.
URL:https://aiatn.org/event/aia-middle-tennessee-2026-speaker-series-august/
LOCATION:Frist Art Museum\, 919 Broadway\, Nashville\, TN\, 37203\, United States
END:VEVENT
END:VCALENDAR